BEGIN:VCALENDAR
VERSION:2.0
PRODID:-//Historische Gruppe Schmied von Kochel e.V. - ECPv6.15.20//NONSGML v1.0//EN
CALSCALE:GREGORIAN
METHOD:PUBLISH
X-ORIGINAL-URL:https://schmied-kochel.de
X-WR-CALDESC:Veranstaltungen für Historische Gruppe Schmied von Kochel e.V.
REFRESH-INTERVAL;VALUE=DURATION:PT1H
X-Robots-Tag:noindex
X-PUBLISHED-TTL:PT1H
BEGIN:VTIMEZONE
TZID:Europe/Berlin
BEGIN:DAYLIGHT
TZOFFSETFROM:+0100
TZOFFSETTO:+0200
TZNAME:CEST
DTSTART:20250330T010000
END:DAYLIGHT
BEGIN:STANDARD
TZOFFSETFROM:+0200
TZOFFSETTO:+0100
TZNAME:CET
DTSTART:20251026T010000
END:STANDARD
BEGIN:DAYLIGHT
TZOFFSETFROM:+0100
TZOFFSETTO:+0200
TZNAME:CEST
DTSTART:20260329T010000
END:DAYLIGHT
BEGIN:STANDARD
TZOFFSETFROM:+0200
TZOFFSETTO:+0100
TZNAME:CET
DTSTART:20261025T010000
END:STANDARD
BEGIN:DAYLIGHT
TZOFFSETFROM:+0100
TZOFFSETTO:+0200
TZNAME:CEST
DTSTART:20270328T010000
END:DAYLIGHT
BEGIN:STANDARD
TZOFFSETFROM:+0200
TZOFFSETTO:+0100
TZNAME:CET
DTSTART:20271031T010000
END:STANDARD
END:VTIMEZONE
BEGIN:VEVENT
DTSTART;VALUE=DATE:20260703
DTEND;VALUE=DATE:20260706
DTSTAMP:20260421T132130
CREATED:20260307T194316Z
LAST-MODIFIED:20260315T223324Z
UID:294-1783036800-1783295999@schmied-kochel.de
SUMMARY:Hüttenwochenende am Spitzingsee
DESCRIPTION:Geselliges Miteinander für Vereinsmitglieder mit Familien  \n\nWeitere Infos folgen …
URL:https://schmied-kochel.de/termin/huettenwochenende-am-spitzingsee/
CATEGORIES:Vereinsaktivitäten
END:VEVENT
BEGIN:VEVENT
DTSTART;TZID=Europe/Berlin:20260705T103000
DTEND;TZID=Europe/Berlin:20260705T150000
DTSTAMP:20260421T132130
CREATED:20260307T194316Z
LAST-MODIFIED:20260315T224013Z
UID:295-1783247400-1783263600@schmied-kochel.de
SUMMARY:47. Waldmesse im Forstenrieder Park
DESCRIPTION:Waldmesse in Forstenried  \n\nkleiner Zug | mit Waffe | kein Schmied\, kein Taferlbua  \nTreffen um 8:00h\, Gasthaus ‚Alter Wirt‘\, Forstenrieder Allee 187 \nDer Gottesdienst findet bei jeder Witterung statt
URL:https://schmied-kochel.de/termin/47-waldmesse-im-forstenrieder-park/
LOCATION:Kreuzbichl – Gottesdienstwiese im Forstenrieder Park
CATEGORIES:Veranstaltung
END:VEVENT
BEGIN:VEVENT
DTSTART;TZID=Europe/Berlin:20260713T200000
DTEND;TZID=Europe/Berlin:20260713T200000
DTSTAMP:20260421T132130
CREATED:20260307T194316Z
LAST-MODIFIED:20260307T194316Z
UID:296-1783972800-1783972800@schmied-kochel.de
SUMMARY:Vereinsabend
DESCRIPTION:Gäste & Interessierte sind herzlich willkommen!
URL:https://schmied-kochel.de/termin/vereinsabend-3/
LOCATION:Augustiner Stammhaus\, Neuhauser Straße 27\, München\, 80331
CATEGORIES:Stammtisch
END:VEVENT
END:VCALENDAR