BEGIN:VCALENDAR
VERSION:2.0
PRODID:-//Historische Gruppe Schmied von Kochel e.V. - ECPv6.15.20//NONSGML v1.0//EN
CALSCALE:GREGORIAN
METHOD:PUBLISH
X-ORIGINAL-URL:https://schmied-kochel.de
X-WR-CALDESC:Veranstaltungen für Historische Gruppe Schmied von Kochel e.V.
REFRESH-INTERVAL;VALUE=DURATION:PT1H
X-Robots-Tag:noindex
X-PUBLISHED-TTL:PT1H
BEGIN:VTIMEZONE
TZID:Europe/Berlin
BEGIN:DAYLIGHT
TZOFFSETFROM:+0100
TZOFFSETTO:+0200
TZNAME:CEST
DTSTART:20250330T010000
END:DAYLIGHT
BEGIN:STANDARD
TZOFFSETFROM:+0200
TZOFFSETTO:+0100
TZNAME:CET
DTSTART:20251026T010000
END:STANDARD
BEGIN:DAYLIGHT
TZOFFSETFROM:+0100
TZOFFSETTO:+0200
TZNAME:CEST
DTSTART:20260329T010000
END:DAYLIGHT
BEGIN:STANDARD
TZOFFSETFROM:+0200
TZOFFSETTO:+0100
TZNAME:CET
DTSTART:20261025T010000
END:STANDARD
BEGIN:DAYLIGHT
TZOFFSETFROM:+0100
TZOFFSETTO:+0200
TZNAME:CEST
DTSTART:20270328T010000
END:DAYLIGHT
BEGIN:STANDARD
TZOFFSETFROM:+0200
TZOFFSETTO:+0100
TZNAME:CET
DTSTART:20271031T010000
END:STANDARD
END:VTIMEZONE
BEGIN:VEVENT
DTSTART;TZID=Europe/Berlin:20261214T200000
DTEND;TZID=Europe/Berlin:20261214T200000
DTSTAMP:20260422T021436
CREATED:20260307T194349Z
LAST-MODIFIED:20260315T233325Z
UID:307-1797278400-1797278400@schmied-kochel.de
SUMMARY:Vereinsabend
DESCRIPTION:Vereinsabend mit Besprechung der jährlichen Gedenkfeier \n\nBitte um zahlreiches Erscheinen.
URL:https://schmied-kochel.de/termin/vereinsabend-8/
LOCATION:Augustiner Stammhaus\, Neuhauser Straße 27\, München\, 80331
CATEGORIES:Stammtisch,Versammlung
END:VEVENT
BEGIN:VEVENT
DTSTART;TZID=Europe/Berlin:20261220T100000
DTEND;TZID=Europe/Berlin:20261220T100000
DTSTAMP:20260422T021436
CREATED:20260307T194359Z
LAST-MODIFIED:20260315T234319Z
UID:308-1797760800-1797760800@schmied-kochel.de
SUMMARY:Gedenken an die Opfer der Sendlinger Bauernschlacht
DESCRIPTION:Gedenkfeier des Trachtenvereins Schmied von Kochel  \nUmzug der Vereine\, Kranzniederlegung an der alten Sendlinger Kirche und Gottesdienst in der Sendlinger Kirche St. Margaret. \n\nkleiner Zug/Fahnenabordnung | mit Waffe\, Trauerflor | kein Schmied\, kein Taferlbua  \nTreffen um 9:00h\, Wirtshaus ‚Tannengarten‘\, Pfeuferstraße 32 \nDer Umzug startet um 10h und findet bei jeder Witterung statt.
URL:https://schmied-kochel.de/termin/gedenken-an-die-opfer-der-sendlinger-bauernschlacht/
LOCATION:Gasthaus Tannengarten\, Pfeuferstraße 32
CATEGORIES:Gedenkfeier,Veranstaltung
END:VEVENT
BEGIN:VEVENT
DTSTART;TZID=Europe/Berlin:20261224T234500
DTEND;TZID=Europe/Berlin:20261225T020000
DTSTAMP:20260422T021436
CREATED:20260307T194359Z
LAST-MODIFIED:20260316T145636Z
UID:309-1798155900-1798164000@schmied-kochel.de
SUMMARY:Heilig Abend: Gedenken an die Bauernschlacht 1705
DESCRIPTION:Gedenkfeier zu Ehren der in der Sendlinger Mordweihnacht 1705 gefallenen Oberländer Bauern und Aufständischen.  \nFackelzug durch Sendling\, Mahnwache am Schmied von Kochel Denkmal\, Kranzniederlegung am Grabmal an der alten Sendlinger Kirche und anschließender Gottesdienst. \n\ngroßer Zug | mit Waffe | mit Schmied\, kein Taferlbua \nTreffen ab 23:00h\, Aufstellung am Stemmerhof: 23:45h \nDie Gedenkfeier findet bei jeder Witterung statt.
URL:https://schmied-kochel.de/termin/heilig-abend-gedenken-an-die-bauernschlacht-1705/
CATEGORIES:Gedenkfeier,Veranstaltung
END:VEVENT
END:VCALENDAR