BEGIN:VCALENDAR
VERSION:2.0
PRODID:-//Historische Gruppe Schmied von Kochel e.V. - ECPv6.15.20//NONSGML v1.0//EN
CALSCALE:GREGORIAN
METHOD:PUBLISH
X-WR-CALNAME:Historische Gruppe Schmied von Kochel e.V.
X-ORIGINAL-URL:https://schmied-kochel.de
X-WR-CALDESC:Veranstaltungen für Historische Gruppe Schmied von Kochel e.V.
REFRESH-INTERVAL;VALUE=DURATION:PT1H
X-Robots-Tag:noindex
X-PUBLISHED-TTL:PT1H
BEGIN:VTIMEZONE
TZID:Europe/Berlin
BEGIN:DAYLIGHT
TZOFFSETFROM:+0100
TZOFFSETTO:+0200
TZNAME:CEST
DTSTART:20260329T010000
END:DAYLIGHT
BEGIN:STANDARD
TZOFFSETFROM:+0200
TZOFFSETTO:+0100
TZNAME:CET
DTSTART:20261025T010000
END:STANDARD
BEGIN:DAYLIGHT
TZOFFSETFROM:+0100
TZOFFSETTO:+0200
TZNAME:CEST
DTSTART:20270328T010000
END:DAYLIGHT
BEGIN:STANDARD
TZOFFSETFROM:+0200
TZOFFSETTO:+0100
TZNAME:CET
DTSTART:20271031T010000
END:STANDARD
BEGIN:DAYLIGHT
TZOFFSETFROM:+0100
TZOFFSETTO:+0200
TZNAME:CEST
DTSTART:20280326T010000
END:DAYLIGHT
BEGIN:STANDARD
TZOFFSETFROM:+0200
TZOFFSETTO:+0100
TZNAME:CET
DTSTART:20281029T010000
END:STANDARD
END:VTIMEZONE
BEGIN:VEVENT
DTSTART;TZID=Europe/Berlin:20270111T200000
DTEND;TZID=Europe/Berlin:20270111T200000
DTSTAMP:20260422T040610
CREATED:20260307T194359Z
LAST-MODIFIED:20260307T194359Z
UID:310-1799697600-1799697600@schmied-kochel.de
SUMMARY:Vereinsabend
DESCRIPTION:Gäste & Interessierte sind herzlich willkommen!
URL:https://schmied-kochel.de/termin/vereinsabend-9/
LOCATION:Augustiner Stammhaus\, Neuhauser Straße 27\, München\, 80331
CATEGORIES:Stammtisch
END:VEVENT
END:VCALENDAR